BEGIN:VCALENDAR
VERSION:2.0
PRODID:-//Sacred Heart &amp; Holy Family Catholic Church - ECPv6.15.20//NONSGML v1.0//EN
CALSCALE:GREGORIAN
METHOD:PUBLISH
X-ORIGINAL-URL:https://sacredheartroggen.com
X-WR-CALDESC:Events for Sacred Heart &amp; Holy Family Catholic Church
REFRESH-INTERVAL;VALUE=DURATION:PT1H
X-Robots-Tag:noindex
X-PUBLISHED-TTL:PT1H
BEGIN:VTIMEZONE
TZID:America/Denver
BEGIN:DAYLIGHT
TZOFFSETFROM:-0700
TZOFFSETTO:-0600
TZNAME:MDT
DTSTART:20240310T090000
END:DAYLIGHT
BEGIN:STANDARD
TZOFFSETFROM:-0600
TZOFFSETTO:-0700
TZNAME:MST
DTSTART:20241103T080000
END:STANDARD
BEGIN:DAYLIGHT
TZOFFSETFROM:-0700
TZOFFSETTO:-0600
TZNAME:MDT
DTSTART:20250309T090000
END:DAYLIGHT
BEGIN:STANDARD
TZOFFSETFROM:-0600
TZOFFSETTO:-0700
TZNAME:MST
DTSTART:20251102T080000
END:STANDARD
BEGIN:DAYLIGHT
TZOFFSETFROM:-0700
TZOFFSETTO:-0600
TZNAME:MDT
DTSTART:20260308T090000
END:DAYLIGHT
BEGIN:STANDARD
TZOFFSETFROM:-0600
TZOFFSETTO:-0700
TZNAME:MST
DTSTART:20261101T080000
END:STANDARD
END:VTIMEZONE
BEGIN:VEVENT
DTSTART;VALUE=DATE:20251101
DTEND;VALUE=DATE:20251103
DTSTAMP:20260424T025352
CREATED:20250410T211757Z
LAST-MODIFIED:20250410T211757Z
UID:3593-1761955200-1762127999@sacredheartroggen.com
SUMMARY:Archdiocese for Military Services
DESCRIPTION:Special Collection \nA 2nd collection will not be taken.  Please add your donation to the main collection.
URL:https://sacredheartroggen.com/event/archdiocese-for-military-services/
CATEGORIES:Holy Family,Sacred Heart
END:VEVENT
BEGIN:VEVENT
DTSTART;VALUE=DATE:20251018
DTEND;VALUE=DATE:20251020
DTSTAMP:20260424T025352
CREATED:20250410T211713Z
LAST-MODIFIED:20250410T211713Z
UID:3591-1760745600-1760918399@sacredheartroggen.com
SUMMARY:World Mission Sunday
DESCRIPTION:Special Collection \nA 2nd collection will not be taken.  Please add your donation to the main collection.
URL:https://sacredheartroggen.com/event/world-mission-sunday-2/
CATEGORIES:Holy Family,Sacred Heart
END:VEVENT
BEGIN:VEVENT
DTSTART;TZID=America/Denver:20251004T083000
DTEND;TZID=America/Denver:20251004T170000
DTSTAMP:20260424T025352
CREATED:20250515T185501Z
LAST-MODIFIED:20250515T185502Z
UID:3738-1759566600-1759597200@sacredheartroggen.com
SUMMARY:October – First Saturday Mass\, Adoration & Confessions at Holy Family Church
DESCRIPTION:“See\, my daughter\, My Heart surrounded with thorns with which ingrates pierce me at every moment with blasphemies and ingratitude. You\, at least\, make sure to console me and announce that all those who for five months\, on the first Saturdays\, go to confession\, receive Communion\, say five decades of the Rosary and keep me company for 15 minutes meditating on the mysteries of the Rosary\, with the purpose of making reparation to Me\, I promise to assist them at the hour of death with all the graces necessary for the salvation of their souls.”\n— Our Lady of Fatima\, December 10\, 1925\nPlease join us for First Saturday devotions in October at Holy Family Church.\nMass is at 8:30 AM followed by all day Adoration with Confessions immediately following Mass.\nIf you want to sign up for an hour of Adoration\, please click:  https://www.signupgenius.com/go/805054CA9A829ABF58-1stsaturday4#/
URL:https://sacredheartroggen.com/event/october-first-saturday-mass-adoration-confessions-at-holy-family-church/
LOCATION:Holy Family\, 100 South Ash Street\, Keenesburg\, 80643\, United States
CATEGORIES:Holy Family
ATTACH;FMTTYPE=image/jpeg:https://sacredheartroggen.com/wp-content/uploads/2023/07/adoration-monstrance-e1688411088629.jpg
END:VEVENT
BEGIN:VEVENT
DTSTART;TZID=America/Denver:20250930T190000
DTEND;TZID=America/Denver:20250930T200000
DTSTAMP:20260424T025352
CREATED:20250903T190027Z
LAST-MODIFIED:20250903T190027Z
UID:3971-1759258800-1759262400@sacredheartroggen.com
SUMMARY:Spanish Healing Mass
DESCRIPTION:Misa de Sanación\, 30 de septiembre\, 19:00 h en la Iglesia de la Sagrada Familia\, Keenesburg\nEl mensaje de sanación y salvación no se encuentra principalmente en la curación externa de dolencias particulares\, sino en la comunión con Aquel que es la salvación misma. Es solo a través de esta fuente que nuestros cuerpos y almas pueden realmente recuperar la salud. \nNo existe condición humana que Cristo no desee sanar. Él verdaderamente desea traer toda herida y quebrantamiento a la comunión consigo mismo. \n\n17:00-18:00 h Adoración y Confesiones\nMisa de 18:00 h\nHomilía seguida de la Unción de los Enfermos\nSanta Comunión\n\nSi usted o un ser querido necesita sanación\, venga y busque la sanación de nuestro Salvador\, Jesucristo.
URL:https://sacredheartroggen.com/event/spanish-healing-mass-4/
LOCATION:Holy Family\, 100 South Ash Street\, Keenesburg\, 80643\, United States
CATEGORIES:Holy Family
ATTACH;FMTTYPE=image/png:https://sacredheartroggen.com/wp-content/uploads/2024/07/healing-mass.png
END:VEVENT
BEGIN:VEVENT
DTSTART;TZID=America/Denver:20250927T000000
DTEND;TZID=America/Denver:20250928T235900
DTSTAMP:20260424T025352
CREATED:20250903T190946Z
LAST-MODIFIED:20250903T191113Z
UID:3975-1758931200-1759103940@sacredheartroggen.com
SUMMARY:Ministry Fair
DESCRIPTION:Come and find a place to serve!\n 
URL:https://sacredheartroggen.com/event/ministry-fair/
CATEGORIES:Holy Family,Sacred Heart
ATTACH;FMTTYPE=image/jpeg:https://sacredheartroggen.com/wp-content/uploads/2025/09/ministry_fair-2.jpg
END:VEVENT
BEGIN:VEVENT
DTSTART;TZID=America/Denver:20250921T090000
DTEND;TZID=America/Denver:20250921T100000
DTSTAMP:20260424T025352
CREATED:20250903T190601Z
LAST-MODIFIED:20250903T190602Z
UID:3973-1758445200-1758448800@sacredheartroggen.com
SUMMARY:CCD Parents Meeting
DESCRIPTION:CCD Parents Meeting\nSunday\, September 21\n9:15am\nJoin us for the parents class at Sacred Heart in the church\, on September 21st\, for a rundown of the year\, get the class schedule\, donut schedule\, permission slips and other important information. \nThe parents class at Holy Family is also on September 21st at Holy Family\, in the church. \nThe parents class is MANDATORY at both churches so parents are informed about what the year will look like for their children. Please make every effort to attend. If you do not attend the parents class\, you will be invited for a private meeting with Father Tom and the Director of Religious Education.
URL:https://sacredheartroggen.com/event/ccd-parents-meeting/
CATEGORIES:Holy Family,Sacred Heart
ATTACH;FMTTYPE=image/jpeg:https://sacredheartroggen.com/wp-content/uploads/2023/08/religious-education.jpg
END:VEVENT
BEGIN:VEVENT
DTSTART;TZID=America/Denver:20250914T090000
DTEND;TZID=America/Denver:20250914T103000
DTSTAMP:20260424T025352
CREATED:20250903T183851Z
LAST-MODIFIED:20250903T183852Z
UID:3961-1757840400-1757845800@sacredheartroggen.com
SUMMARY:First Day of Religious Education Classes (CCD)
DESCRIPTION:First Day of Religious Education Classes (CCD)\nSunday\, September 14th\n9am-10:15am\nBoth Churches\nClasses run from September-May\n$20 book fee per student  Register Now!\nhttps://sacredheartroggen.com/ccd-registration/
URL:https://sacredheartroggen.com/event/first-day-of-religious-education-classes-ccd/
CATEGORIES:Holy Family,Sacred Heart
ATTACH;FMTTYPE=image/png:https://sacredheartroggen.com/wp-content/uploads/2025/09/first-day-of-class.png
END:VEVENT
BEGIN:VEVENT
DTSTART;VALUE=DATE:20250913
DTEND;VALUE=DATE:20250915
DTSTAMP:20260424T025352
CREATED:20250410T212051Z
LAST-MODIFIED:20250410T212051Z
UID:3599-1757721600-1757894399@sacredheartroggen.com
SUMMARY:Mission Appeal
DESCRIPTION:Special Collection \nA 2nd collection will not be taken.  Please add your donation to the main collection.
URL:https://sacredheartroggen.com/event/mission-appeal/
CATEGORIES:Holy Family,Sacred Heart
END:VEVENT
BEGIN:VEVENT
DTSTART;TZID=America/Denver:20250909T183000
DTEND;TZID=America/Denver:20250909T193000
DTSTAMP:20260424T025352
CREATED:20250903T185142Z
LAST-MODIFIED:20250903T185143Z
UID:3968-1757442600-1757446200@sacredheartroggen.com
SUMMARY:That Man is You Kickoff
DESCRIPTION:That Man is You men’s group\nThe Fight of Faith equips and enables men to engage in the cosmic\, spiritual battle raging\nin our day. Biblical identities will emerge to inspire heroic lives of service to a calling\ngreater than ourselves. Uncover the ultimate truth that sheds light on all things: God’s own\nidentity. Fight the good fight of faith to win an imperishable crown of glory.\nJoin us for food\, fellowship and faith starting September 9th at 6:45 pm in the Rectory\nBasement. All men are welcome.\nLearn more at thatmanisyou.com\, or contact\nRick Gerkin at 970-388-4691/rclgnavy@gmail.com
URL:https://sacredheartroggen.com/event/that-man-is-you-kickoff/
LOCATION:Sacred Heart\, 38044 WCR 16\, Roggen\, CO\, 80652\, United States
CATEGORIES:Holy Family,Sacred Heart
ATTACH;FMTTYPE=image/jpeg:https://sacredheartroggen.com/wp-content/uploads/2025/09/That-Man-is-You-300x169-1.jpg
END:VEVENT
BEGIN:VEVENT
DTSTART;TZID=America/Denver:20250906T083000
DTEND;TZID=America/Denver:20250906T170000
DTSTAMP:20260424T025352
CREATED:20250515T185359Z
LAST-MODIFIED:20250515T185400Z
UID:3736-1757147400-1757178000@sacredheartroggen.com
SUMMARY:September – First Saturday Mass\, Adoration & Confessions at Holy Family Church
DESCRIPTION:“See\, my daughter\, My Heart surrounded with thorns with which ingrates pierce me at every moment with blasphemies and ingratitude. You\, at least\, make sure to console me and announce that all those who for five months\, on the first Saturdays\, go to confession\, receive Communion\, say five decades of the Rosary and keep me company for 15 minutes meditating on the mysteries of the Rosary\, with the purpose of making reparation to Me\, I promise to assist them at the hour of death with all the graces necessary for the salvation of their souls.”\n— Our Lady of Fatima\, December 10\, 1925\nPlease join us for First Saturday devotions in September at Holy Family Church.\nMass is at 8:30 AM followed by all day Adoration with Confessions immediately following Mass.\nIf you want to sign up for an hour of Adoration\, please click:  https://www.signupgenius.com/go/805054CA9A829ABF58-1stsaturday4#/
URL:https://sacredheartroggen.com/event/september-first-saturday-mass-adoration-confessions-at-holy-family-church/
LOCATION:Holy Family\, 100 South Ash Street\, Keenesburg\, 80643\, United States
CATEGORIES:Holy Family
ATTACH;FMTTYPE=image/jpeg:https://sacredheartroggen.com/wp-content/uploads/2023/07/adoration-monstrance-e1688411088629.jpg
END:VEVENT
BEGIN:VEVENT
DTSTART;VALUE=DATE:20250906
DTEND;VALUE=DATE:20250908
DTSTAMP:20260424T025352
CREATED:20250410T211634Z
LAST-MODIFIED:20250410T211634Z
UID:3588-1757116800-1757289599@sacredheartroggen.com
SUMMARY:Catholic University of America
DESCRIPTION:Special Collection \nA 2nd collection will not be taken.  Please add your donation to the main collection.
URL:https://sacredheartroggen.com/event/catholic-university-of-america-2/
CATEGORIES:Holy Family,Sacred Heart
END:VEVENT
BEGIN:VEVENT
DTSTART;TZID=America/Denver:20250826T190000
DTEND;TZID=America/Denver:20250826T200000
DTSTAMP:20260424T025352
CREATED:20251001T010044Z
LAST-MODIFIED:20250903T185658Z
UID:3819-1756234800-1756238400@sacredheartroggen.com
SUMMARY:Spanish Healing Mass
DESCRIPTION:Misa de Sanación\, 26 de agosto\, 19:00 h en la Iglesia de la Sagrada Familia\, Keenesburg\nEl mensaje de sanación y salvación no se encuentra principalmente en la curación externa de dolencias particulares\, sino en la comunión con Aquel que es la salvación misma. Es solo a través de esta fuente que nuestros cuerpos y almas pueden realmente recuperar la salud. \nNo existe condición humana que Cristo no desee sanar. Él verdaderamente desea traer toda herida y quebrantamiento a la comunión consigo mismo. \n\n17:00-18:00 h Adoración y Confesiones\nMisa de 18:00 h\nHomilía seguida de la Unción de los Enfermos\nSanta Comunión\n\nSi usted o un ser querido necesita sanación\, venga y busque la sanación de nuestro Salvador\, Jesucristo.
URL:https://sacredheartroggen.com/event/spanish-healing-mass-3/
LOCATION:Holy Family\, 100 South Ash Street\, Keenesburg\, 80643\, United States
CATEGORIES:Holy Family
ATTACH;FMTTYPE=image/png:https://sacredheartroggen.com/wp-content/uploads/2024/07/healing-mass.png
END:VEVENT
BEGIN:VEVENT
DTSTART;VALUE=DATE:20250809
DTEND;VALUE=DATE:20250811
DTSTAMP:20260424T025352
CREATED:20250410T211503Z
LAST-MODIFIED:20250410T211503Z
UID:3585-1754697600-1754870399@sacredheartroggen.com
SUMMARY:Retired and Infirm Priests of the Archdiocese of Denver
DESCRIPTION:Special Collection \nA 2nd collection will not be taken.  Please add your donation to the main collection.
URL:https://sacredheartroggen.com/event/retired-and-infirm-priests-of-the-archdiocese-of-denver-2/
CATEGORIES:Holy Family,Sacred Heart
END:VEVENT
BEGIN:VEVENT
DTSTART;TZID=America/Denver:20250802T083000
DTEND;TZID=America/Denver:20250802T170000
DTSTAMP:20260424T025352
CREATED:20250515T185242Z
LAST-MODIFIED:20250515T185243Z
UID:3733-1754123400-1754154000@sacredheartroggen.com
SUMMARY:August – First Saturday Mass\, Adoration & Confessions at Holy Family Church
DESCRIPTION:“See\, my daughter\, My Heart surrounded with thorns with which ingrates pierce me at every moment with blasphemies and ingratitude. You\, at least\, make sure to console me and announce that all those who for five months\, on the first Saturdays\, go to confession\, receive Communion\, say five decades of the Rosary and keep me company for 15 minutes meditating on the mysteries of the Rosary\, with the purpose of making reparation to Me\, I promise to assist them at the hour of death with all the graces necessary for the salvation of their souls.”\n— Our Lady of Fatima\, December 10\, 1925\nPlease join us for First Saturday devotions in August at Holy Family Church.\nMass is at 8:30 AM followed by all day Adoration with Confessions immediately following Mass.\nIf you want to sign up for an hour of Adoration\, please click:  https://www.signupgenius.com/go/805054CA9A829ABF58-1stsaturday4#/
URL:https://sacredheartroggen.com/event/august-first-saturday-mass-adoration-confessions-at-holy-family-church/
LOCATION:Holy Family\, 100 South Ash Street\, Keenesburg\, 80643\, United States
CATEGORIES:Holy Family
ATTACH;FMTTYPE=image/jpeg:https://sacredheartroggen.com/wp-content/uploads/2023/07/adoration-monstrance-e1688411088629.jpg
END:VEVENT
BEGIN:VEVENT
DTSTART;TZID=America/Denver:20250730T083000
DTEND;TZID=America/Denver:20250730T120000
DTSTAMP:20260424T025352
CREATED:20250619T180849Z
LAST-MODIFIED:20250625T172751Z
UID:3811-1753864200-1753876800@sacredheartroggen.com
SUMMARY:Catholic Card Day
DESCRIPTION:Catholic Card Day\nWednesday\, July 30\nStarts after 8:30 AM Mass at Sacred Heart\n9 AM until Noon\nSchedule: \nBreakfast \nPlay Cards \nEnding – Pray at Grotto
URL:https://sacredheartroggen.com/event/catholic-card-day/
LOCATION:Sacred Heart\, 38044 WCR 16\, Roggen\, CO\, 80652\, United States
CATEGORIES:Holy Family,Sacred Heart
ATTACH;FMTTYPE=image/jpeg:https://sacredheartroggen.com/wp-content/uploads/2025/06/playing-cards-3748473.jpg
END:VEVENT
BEGIN:VEVENT
DTSTART;TZID=America/Denver:20250729T190000
DTEND;TZID=America/Denver:20250729T200000
DTSTAMP:20260424T025352
CREATED:20250619T175942Z
LAST-MODIFIED:20250619T175943Z
UID:3809-1753815600-1753819200@sacredheartroggen.com
SUMMARY:Spanish Healing Mass
DESCRIPTION:Misa de Sanación\, 29 de julio\, 19:00 h en la Iglesia de la Sagrada Familia\, Keenesburg\nEl mensaje de sanación y salvación no se encuentra principalmente en la curación externa de dolencias particulares\, sino en la comunión con Aquel que es la salvación misma. Es solo a través de esta fuente que nuestros cuerpos y almas pueden realmente recuperar la salud. \nNo existe condición humana que Cristo no desee sanar. Él verdaderamente desea traer toda herida y quebrantamiento a la comunión consigo mismo. \n\n17:00-18:00 h Adoración y Confesiones\nMisa de 18:00 h\nHomilía seguida de la Unción de los Enfermos\nSanta Comunión\n\nSi usted o un ser querido necesita sanación\, venga y busque la sanación de nuestro Salvador\, Jesucristo.
URL:https://sacredheartroggen.com/event/spanish-healing-mass-2/
LOCATION:Holy Family\, 100 South Ash Street\, Keenesburg\, 80643\, United States
CATEGORIES:Holy Family
ATTACH;FMTTYPE=image/png:https://sacredheartroggen.com/wp-content/uploads/2024/07/healing-mass.png
END:VEVENT
BEGIN:VEVENT
DTSTART;TZID=America/Denver:20250715T133000
DTEND;TZID=America/Denver:20250715T163000
DTSTAMP:20260424T025352
CREATED:20250625T172504Z
LAST-MODIFIED:20250625T172505Z
UID:3815-1752586200-1752597000@sacredheartroggen.com
SUMMARY:Pizza & Movie & Sundaes
DESCRIPTION:
URL:https://sacredheartroggen.com/event/pizza-movie-sundaes/
LOCATION:Sacred Heart\, 38044 WCR 16\, Roggen\, CO\, 80652\, United States
CATEGORIES:Holy Family,Sacred Heart
ATTACH;FMTTYPE=image/webp:https://sacredheartroggen.com/wp-content/uploads/2025/06/Nemo.webp
END:VEVENT
BEGIN:VEVENT
DTSTART;VALUE=DATE:20250712
DTEND;VALUE=DATE:20250714
DTSTAMP:20260424T025352
CREATED:20250410T210728Z
LAST-MODIFIED:20250410T210728Z
UID:3583-1752278400-1752451199@sacredheartroggen.com
SUMMARY:Church in Africa
DESCRIPTION:Special Collection \nA 2nd collection will not be taken.  Please add your donation to the main collection.
URL:https://sacredheartroggen.com/event/church-in-africa-2/
CATEGORIES:Holy Family,Sacred Heart
END:VEVENT
BEGIN:VEVENT
DTSTART;TZID=America/Denver:20250705T083000
DTEND;TZID=America/Denver:20250705T170000
DTSTAMP:20260424T025352
CREATED:20250515T185000Z
LAST-MODIFIED:20250515T185001Z
UID:3731-1751704200-1751734800@sacredheartroggen.com
SUMMARY:July – First Saturday Mass\, Adoration & Confessions at Holy Family Church
DESCRIPTION:“See\, my daughter\, My Heart surrounded with thorns with which ingrates pierce me at every moment with blasphemies and ingratitude. You\, at least\, make sure to console me and announce that all those who for five months\, on the first Saturdays\, go to confession\, receive Communion\, say five decades of the Rosary and keep me company for 15 minutes meditating on the mysteries of the Rosary\, with the purpose of making reparation to Me\, I promise to assist them at the hour of death with all the graces necessary for the salvation of their souls.”\n— Our Lady of Fatima\, December 10\, 1925\nPlease join us for First Saturday devotions in July at Holy Family Church.\nMass is at 8:30 AM followed by all day Adoration with Confessions immediately following Mass.\nIf you want to sign up for an hour of Adoration\, please click:  https://www.signupgenius.com/go/805054CA9A829ABF58-1stsaturday4#/\n 
URL:https://sacredheartroggen.com/event/july-first-saturday-mass-adoration-confessions-at-holy-family-church/
LOCATION:Holy Family\, 100 South Ash Street\, Keenesburg\, 80643\, United States
CATEGORIES:Holy Family
ATTACH;FMTTYPE=image/jpeg:https://sacredheartroggen.com/wp-content/uploads/2023/07/adoration-monstrance-e1688411088629.jpg
END:VEVENT
BEGIN:VEVENT
DTSTART;TZID=America/Denver:20250704T083000
DTEND;TZID=America/Denver:20250704T090000
DTSTAMP:20260424T025352
CREATED:20250515T175723Z
LAST-MODIFIED:20250515T175725Z
UID:3726-1751617800-1751619600@sacredheartroggen.com
SUMMARY:Independence Day Mass at Cemetery
DESCRIPTION:Friday\, July 4th\, daily Mass will be out at The Heart of the Plains Cemetery at 8:30 AM.\nThere are benches available\, but if you like\, you may bring lawn chairs as well.\n 
URL:https://sacredheartroggen.com/event/independence-day-mass-at-cemetery/
LOCATION:Heart of the Plains Cemetery\, Roggen\, CO\, 80652\, United States
CATEGORIES:Heart of the Plains Cemetery,Holy Family,Sacred Heart
ATTACH;FMTTYPE=image/jpeg:https://sacredheartroggen.com/wp-content/uploads/2024/06/fourth_of_july-scaled.jpeg
END:VEVENT
BEGIN:VEVENT
DTSTART;VALUE=DATE:20250628
DTEND;VALUE=DATE:20250630
DTSTAMP:20260424T025352
CREATED:20250410T210513Z
LAST-MODIFIED:20250410T210513Z
UID:3581-1751068800-1751241599@sacredheartroggen.com
SUMMARY:Peter's Pence
DESCRIPTION:Special Collection \nA 2nd collection will not be taken.  Please add your donation to the main collection.
URL:https://sacredheartroggen.com/event/peters-pence-2/
CATEGORIES:Holy Family,Sacred Heart
END:VEVENT
BEGIN:VEVENT
DTSTART;TZID=America/Denver:20250624T190000
DTEND;TZID=America/Denver:20250624T200000
DTSTAMP:20260424T025352
CREATED:20250619T172704Z
LAST-MODIFIED:20250619T173602Z
UID:3804-1750791600-1750795200@sacredheartroggen.com
SUMMARY:Spanish Healing Mass
DESCRIPTION:Misa de Sanación\, 24 de junio\, 19:00 h en la Iglesia de la Sagrada Familia\, Keenesburg\nEl mensaje de sanación y salvación no se encuentra principalmente en la curación externa de dolencias particulares\, sino en la comunión con Aquel que es la salvación misma. Es solo a través de esta fuente que nuestros cuerpos y almas pueden realmente recuperar la salud. \nNo existe condición humana que Cristo no desee sanar. Él verdaderamente desea traer toda herida y quebrantamiento a la comunión consigo mismo. \n\n17:00-18:00 h Adoración y Confesiones\nMisa de 18:00 h\nHomilía seguida de la Unción de los Enfermos\nSanta Comunión\n\nSi usted o un ser querido necesita sanación\, venga y busque la sanación de nuestro Salvador\, Jesucristo.
URL:https://sacredheartroggen.com/event/spanish-healing-mass/
LOCATION:Holy Family\, 100 South Ash Street\, Keenesburg\, 80643\, United States
CATEGORIES:Holy Family
ATTACH;FMTTYPE=image/png:https://sacredheartroggen.com/wp-content/uploads/2024/07/healing-mass.png
END:VEVENT
BEGIN:VEVENT
DTSTART;TZID=America/Denver:20250618T083000
DTEND;TZID=America/Denver:20250618T120000
DTSTAMP:20260424T025352
CREATED:20250611T172630Z
LAST-MODIFIED:20250611T172753Z
UID:3785-1750235400-1750248000@sacredheartroggen.com
SUMMARY:Catholic Card Day
DESCRIPTION:Catholic Card Day\nWednesday\, June 18\nStarts after 8:30 AM Mass at Sacred Heart\n9 AM until Noon\nSchedule: \nPancakes/Scrambled Eggs \nPlay Cards \nEnding – Pray at Grotto
URL:https://sacredheartroggen.com/event/3785/
LOCATION:Sacred Heart\, 38044 WCR 16\, Roggen\, CO\, 80652\, United States
CATEGORIES:Holy Family,Sacred Heart
ATTACH;FMTTYPE=image/jpeg:https://sacredheartroggen.com/wp-content/uploads/2025/06/playing-cards-3748473.jpg
END:VEVENT
BEGIN:VEVENT
DTSTART;TZID=America/Denver:20250607T083000
DTEND;TZID=America/Denver:20250607T163000
DTSTAMP:20260424T025352
CREATED:20250129T164426Z
LAST-MODIFIED:20250129T164427Z
UID:3451-1749285000-1749313800@sacredheartroggen.com
SUMMARY:June - First Saturday Mass\, Adoration & Confessions at Holy Family Church
DESCRIPTION:Please join us for First Saturday devotions in June at Holy Family Church. \nMass is at 8:30 AM followed by all day Adoration with Confessions immediately following Mass.
URL:https://sacredheartroggen.com/event/june-first-saturday-mass-adoration-confessions-at-holy-family-church/
LOCATION:Holy Family\, 100 South Ash Street\, Keenesburg\, 80643\, United States
CATEGORIES:Holy Family
ATTACH;FMTTYPE=image/jpeg:https://sacredheartroggen.com/wp-content/uploads/2023/07/adoration-monstrance-e1688411088629.jpg
END:VEVENT
BEGIN:VEVENT
DTSTART;TZID=America/Denver:20250601T140000
DTEND;TZID=America/Denver:20250601T170000
DTSTAMP:20260424T025352
CREATED:20250501T181012Z
LAST-MODIFIED:20250501T181012Z
UID:3672-1748786400-1748797200@sacredheartroggen.com
SUMMARY:Sacred Heart & Holy Family Parish Family Picnic
DESCRIPTION:Let’s celebrate the\nEND OF THE CCD SCHOOL YEAR\n                 with a pot-luck picnic!\n                                             There will be burgers & hot dogs\, the playground\, and a bounce house!\nAll families from both parishes are invited to attend.\nSunday\, June 1\n2pm\, Schey Park\nKeenesburg\n  \nHoly Family families:  please bring a side-dish\nSacred Heart families:  please bring a dessert
URL:https://sacredheartroggen.com/event/sacred-heart-holy-family-parish-family-picnic/
LOCATION:Keenesburg\, CO\, Keenesburg\, CO\, United States
CATEGORIES:Holy Family,Sacred Heart
ATTACH;FMTTYPE=image/jpeg:https://sacredheartroggen.com/wp-content/uploads/2024/04/CCD-picnic.jpg
END:VEVENT
BEGIN:VEVENT
DTSTART;TZID=America/Denver:20250601T090000
DTEND;TZID=America/Denver:20250606T210000
DTSTAMP:20260424T025352
CREATED:20250129T170551Z
LAST-MODIFIED:20250423T165949Z
UID:3468-1748768400-1749243600@sacredheartroggen.com
SUMMARY:Totus Tuus
DESCRIPTION:Totus Tuus is coming back to Sacred Heart this summer!!!!!\nJune 1-6\, 2025\nTOTUS TUUS is an Archdiocesan program that gathers together college students & seminarians\ninto teams and sends them out to parishes to spread the GOOD NEWS of our Lord among children\n& youth. Programs include FUN\, catechetical instruction\, songs\, games\, FUN\, daily Mass\,\nAdoration\, Reconciliation\, FUN\, food\, fellowship and did we mention FUN!?\nThere are 2 programs:\nGrades 1st – 6th meet Monday – Friday from 9:00 am to 2:30 pm\n• Please bring a sack lunch and water bottle every day.\nGrades 7th – 12th meet Sunday – Thursday from 7:00pm to 9:00pm\n• Snacks provided.\nQUESTIONS?  Call:\nHoly Family – Christina Workman 720-550-0160\nSacred Heart – Ed Green 720-550-0356\n*** \nAll 3 forms need to be returned for your child to participate.\nThe registration form\, Archdiocese activity release and Archdiocese photo release are linked below:\nTotus Tuus registration form 2025\nActivity-Release-for-Minor-Participants-2010\nPhoto-release_2022
URL:https://sacredheartroggen.com/event/totus-tuus-2/
LOCATION:Sacred Heart\, 38044 WCR 16\, Roggen\, CO\, 80652\, United States
CATEGORIES:Holy Family,Sacred Heart
ATTACH;FMTTYPE=image/png:https://sacredheartroggen.com/wp-content/uploads/2024/03/Sacred-Heart-Totus-Tuus.png
END:VEVENT
BEGIN:VEVENT
DTSTART;VALUE=DATE:20250531
DTEND;VALUE=DATE:20250602
DTSTAMP:20260424T025352
CREATED:20250410T205508Z
LAST-MODIFIED:20250410T205508Z
UID:3579-1748649600-1748822399@sacredheartroggen.com
SUMMARY:Catholic Communications Campaign
DESCRIPTION:Special Collection \nA 2nd collection will not be taken.  Please add your donation to the main collection.
URL:https://sacredheartroggen.com/event/catholic-communications-campaign-2/
CATEGORIES:Holy Family,Sacred Heart
END:VEVENT
BEGIN:VEVENT
DTSTART;TZID=America/Denver:20250522T190000
DTEND;TZID=America/Denver:20250522T200000
DTSTAMP:20260424T025352
CREATED:20250423T162243Z
LAST-MODIFIED:20250423T162244Z
UID:3640-1747940400-1747944000@sacredheartroggen.com
SUMMARY:Confirmation & First Holy Communion
DESCRIPTION:Thursday\, May 22\, 2025\n7pm\nSacred Heart Church\nChildren and sponsors please meet in church basement at 6pm.\nReception to follow in Knights of Columbus Hall.
URL:https://sacredheartroggen.com/event/confirmation-first-holy-communion/
LOCATION:Sacred Heart\, 38044 WCR 16\, Roggen\, CO\, 80652\, United States
CATEGORIES:Holy Family,Sacred Heart
ATTACH;FMTTYPE=image/png:https://sacredheartroggen.com/wp-content/uploads/2024/04/confirmation-first-holy-communion.png
END:VEVENT
BEGIN:VEVENT
DTSTART;TZID=America/Denver:20250521T183000
DTEND;TZID=America/Denver:20250521T193000
DTSTAMP:20260424T025352
CREATED:20250423T162456Z
LAST-MODIFIED:20250423T163041Z
UID:3642-1747852200-1747855800@sacredheartroggen.com
SUMMARY:Confirmation Practice
DESCRIPTION:Wednesday\, May 21\, 2025\n6:30pm\nSacred Heart Church\nAsk the sponsor to bring your child.  Parents do not need to come.\nPlease make every effort to attend!
URL:https://sacredheartroggen.com/event/confirmation-practice/
LOCATION:Sacred Heart\, 38044 WCR 16\, Roggen\, CO\, 80652\, United States
CATEGORIES:Holy Family,Sacred Heart
ATTACH;FMTTYPE=image/jpeg:https://sacredheartroggen.com/wp-content/uploads/2022/09/confirmation.jpg
END:VEVENT
BEGIN:VEVENT
DTSTART;TZID=America/Denver:20250517T090000
DTEND;TZID=America/Denver:20250517T140000
DTSTAMP:20260424T025352
CREATED:20250423T162807Z
LAST-MODIFIED:20250423T162807Z
UID:3644-1747472400-1747490400@sacredheartroggen.com
SUMMARY:Confirmation & First Holy Communion Retreat
DESCRIPTION:Saturday\, May 17\, 2025\n9am-2pm\nSacred Heart Church basement\nSnacks & Lunch are provided.  Confessions will be available.\nTHIS IS A REQUIREMENT BEFORE YOUR CHILD MAY BE CONFIRMED.\nPlease make every effort to attend!
URL:https://sacredheartroggen.com/event/confirmation-first-holy-communion-retreat/
LOCATION:Sacred Heart\, 38044 WCR 16\, Roggen\, CO\, 80652\, United States
CATEGORIES:Holy Family,Sacred Heart
ATTACH;FMTTYPE=image/jpeg:https://sacredheartroggen.com/wp-content/uploads/2024/03/Confirmation-and-FHC.jpg
END:VEVENT
END:VCALENDAR